BEGIN:VCALENDAR
VERSION:2.0
PRODID:-//pretix//Swinggeeks_Tickets//
BEGIN:VTIMEZONE
TZID:Europe/Berlin
BEGIN:STANDARD
DTSTART:20001029T040000
RRULE:FREQ=YEARLY;BYDAY=-1SU;BYMONTH=10
TZNAME:CET
TZOFFSETFROM:+0200
TZOFFSETTO:+0100
END:STANDARD
BEGIN:DAYLIGHT
DTSTART:20000326T030000
RRULE:FREQ=YEARLY;BYDAY=-1SU;BYMONTH=3
TZNAME:CEST
TZOFFSETFROM:+0100
TZOFFSETTO:+0200
END:DAYLIGHT
END:VTIMEZONE
BEGIN:VEVENT
UID:pretix-mm-TG2024-0@registration.muehlenhofmattstedt.de
DTSTART;TZID=Europe/Berlin:20240703T160000
DTEND;TZID=Europe/Berlin:20240707T220000
DESCRIPTION:Tickets: https://registration.muehlenhofmattstedt.de/mm/TG2024/
 \nVeranstalter: Mühlenhof Mattstedt
DTSTAMP:20260419T205635Z
LOCATION:Mühlenhof Mattstedt\, Thüringen\, Deutschland
SUMMARY:TANGO WEEKEND MATTSTEDT
END:VEVENT
END:VCALENDAR
